BEGIN:VCALENDAR
VERSION:2.0
PRODID:icalendar-ruby
CALSCALE:GREGORIAN
METHOD:PUBLISH
BEGIN:VEVENT
DTSTAMP:20260422T135527Z
UID:43-634122@mascotbaptistchurch.org
DTSTART:20260531T163000Z
DTEND:20260531T183000Z
CLASS:PUBLIC
CREATED:20260421T155257
DESCRIPTION:\n\nKick off the summer with us at our upcoming Mascot Block Pa
 rty! This is a great opportunity to come together as a community\, get to 
 know other people in our neighborhood\, and enjoy food\, games\, and fello
 wship together. We'll be grilling out\, have some bounce houses for the ki
 ds\, corn hole for the kids at heart\, and plenty more – it's going to b
 e a great time! Bring a lawn chair\, and invite a neighbor to come with yo
 u!\n\n\n\n
LAST-MODIFIED:20260421T155257
LOCATION:Mascot Park
SUMMARY:Mascot Block Party
URL;VALUE=URI:https://mascotbaptistchurch.org/events/mascot-block-party--43
 /2026-05-31
ATTACH;FILENAME=2.png;FMTTYPE=image/png:https://dq5pwpg1q8ru0.cloudfront.ne
 t/2026/04/21/19/52/57/538be4cc-710c-45a5-a36b-cbd038f8d5d6/2.png
END:VEVENT
END:VCALENDAR
